BEGIN:VCALENDAR
VERSION:2.0
PRODID:-//ChamberMaster//Event Calendar 2.0//EN
METHOD:PUBLISH
X-PUBLISHED-TTL:P3D
REFRESH-INTERVAL:P3D
CALSCALE:GREGORIAN
BEGIN:VEVENT
DTSTART:20221110T223000Z
DTEND:20221111T000000Z
X-MICROSOFT-CDO-ALLDAYEVENT:FALSE
SUMMARY:Healing After Loss
DESCRIPTION:After profound loss\, you may experience an overwhelming range of emotions. Our team at Sanford Health can help guide you through this difficult journey during our grief support group for individuals and families. You can connect with others who are grieving the loss of a loved one to share stories\, build resiliency and find meaning in the face of loss in a safe environment among those who understand.
X-ALT-DESC;FMTTYPE=text/html:After profound loss\, you may experience an overwhelming range of emotions. Our team at Sanford Health can help guide you through this difficult journey during our grief support group for individuals and families. You can connect with others who are grieving the loss of a loved one to share stories\, build resiliency and find meaning in the face of loss in a safe environment among those who understand.
LOCATION:Beltrami Electric Cooperative 4111 Technology Drive NW\, Second Floor\, Suite 201 Bemidji\, MN 56601
UID:e.132.36269
SEQUENCE:3
DTSTAMP:20260422T000247Z
URL:https://members.bemidji.org/events/details/healing-after-loss-11-10-2022-36269
END:VEVENT

END:VCALENDAR
