BEGIN:VCALENDAR
VERSION:2.0
PRODID:-//ChamberMaster//Event Calendar 2.0//EN
METHOD:PUBLISH
X-PUBLISHED-TTL:P3D
REFRESH-INTERVAL:P3D
CALSCALE:GREGORIAN
BEGIN:VEVENT
DTSTART:20200419T000000Z
DTEND:20200419T020000Z
X-MICROSOFT-CDO-ALLDAYEVENT:FALSE
SUMMARY:Monroe Crossing
DESCRIPTION:Monroe Crossing to Perform at the Historic Chief Theater\n\n \n\nWhen: 7:00 pm\, Saturday\, April 18 2020\n\nWhere: Historic Chief Theater | 314 Beltrami Ave NW\, Bemidji\, MN 56601\n\nContact: headwatersschool@yahoo.com  218.444.5606  \n\nCost $25.00\n\nHeadwater Music & Arts hosts world-class bluegrass entertainers Monroe Crossing in concert at the Historic Chief Theater in Bemidji 7:30 pm Saturday\, April 18th with 7 PM opening performance by No Rest for the Pickers and Julie and Bill Kaiser.
X-ALT-DESC;FMTTYPE=text/html:<br />\n<strong><span style="color:#000066\;"><span style="font-family:calibri\,sans-serif\;"><span style="font-size:18.0pt\;">Monroe Crossing to Perform at the Historic Chief Theater</span></span></span></strong><br />\n&nbsp\;<br />\n<strong>When</strong>: 7:00 pm\, Saturday\, April 18 2020<br />\n<strong>Where</strong>: Historic Chief Theater | 314 Beltrami Ave NW\, Bemidji\, MN 56601<br />\nContact: headwatersschool@yahoo.com&nbsp\; 218.444.5606&nbsp\;&nbsp\;<br />\nCost $25.00<br />\nHeadwater Music &amp\; Arts hosts world-class bluegrass entertainers Monroe Crossing in concert at the Historic Chief Theater in Bemidji 7:30 pm Saturday\, April 18th with 7 PM opening performance by No Rest for the Pickers and Julie and Bill Kaiser.<br />\n<br />\n&nbsp\;
LOCATION:
UID:e.132.34439
SEQUENCE:3
DTSTAMP:20260421T082801Z
URL:https://members.bemidji.org/events/details/monroe-crossing-34439
END:VEVENT

END:VCALENDAR
